BEGIN:VCALENDAR
VERSION:2.0
PRODID:-//ChamberMaster//Event Calendar 2.0//EN
METHOD:PUBLISH
X-PUBLISHED-TTL:P3D
REFRESH-INTERVAL:P3D
CALSCALE:GREGORIAN
BEGIN:VEVENT
DTSTART:20130607T003000Z
DTEND:20130607T023000Z
X-MICROSOFT-CDO-ALLDAYEVENT:FALSE
SUMMARY:DIG IN! At the NEW West Sacramento Farmers Market
DESCRIPTION:Our region's favorite chefs team up with local celebrities\, to host a 100-seat dinner in front of City Hall\non the first Thursday of each month.\n\nTreat yourself to a dinner made from ingredients available at the market\, literally steps away from your table.\n\nFirst Thursday of each month at 5:30 PM\n• $40 per ticket\n• 100 seats available.\n\nA portion of proceeds will benefit local non-profit organizations.
X-ALT-DESC;FMTTYPE=text/html:Our region's favorite chefs team up with local celebrities\, to host a 100-seat dinner in front of City Hall\non the first Thursday of each month.\n\nTreat yourself to a dinner made from ingredients available at the market\, literally steps away from your table.\n\nFirst Thursday of each month at 5:30 PM\n• $40 per ticket\n• 100 seats available.\n\nA portion of proceeds will benefit local non-profit organizations.
LOCATION:1110 West Capitol Ave\, West Sacramento\, CA 95691
UID:e.2957.1196
SEQUENCE:3
DTSTAMP:20260423T104043Z
URL:https://www.westsacramentochamber.com/events/details/dig-in-at-the-new-west-sacramento-farmers-market-1196
END:VEVENT

END:VCALENDAR
