BEGIN:VCALENDAR
VERSION:2.0
PRODID:-//ChamberMaster//Event Calendar 2.0//EN
METHOD:PUBLISH
X-PUBLISHED-TTL:P3D
REFRESH-INTERVAL:P3D
CALSCALE:GREGORIAN
BEGIN:VEVENT
DTSTART:20090227T020000Z
DTEND:20090227T033000Z
X-MICROSOFT-CDO-ALLDAYEVENT:FALSE
SUMMARY:Delta Elementary Charter School Fall Enrollment
DESCRIPTION:Join the Team!\nDelta Elementary Charter School\, K-6\, in Clarksburg\nFall 2009 Open Enrollment*\nKindergarten Round-Up: 6:00 p.m.\nProspective 1st through 6th Graders: 6:30 p.m.\n*Limited Space Still Available
X-ALT-DESC;FMTTYPE=text/html:Join the Team!\nDelta Elementary Charter School\, K-6\, in Clarksburg\nFall 2009 Open Enrollment*\nKindergarten Round-Up: 6:00 p.m.\nProspective 1st through 6th Graders: 6:30 p.m.\n*Limited Space Still Available
LOCATION:36230 North School Street\, Clarksburg\, CA 95612 Delta Elementary Charter School 36230 North School Street Clarksburg\, CA 95612 (916) 744-1200
UID:e.2957.834
SEQUENCE:3
DTSTAMP:20260425T204250Z
URL:https://www.westsacramentochamber.com/events/details/delta-elementary-charter-school-fall-enrollment-834
END:VEVENT

END:VCALENDAR
