BEGIN:VCALENDAR
VERSION:2.0
PRODID:-//ChamberMaster//Event Calendar 2.0//EN
METHOD:PUBLISH
X-PUBLISHED-TTL:P3D
REFRESH-INTERVAL:P3D
CALSCALE:GREGORIAN
BEGIN:VEVENT
DTSTART:20111001T010000Z
DTEND:20111001T050000Z
X-MICROSOFT-CDO-ALLDAYEVENT:FALSE
SUMMARY:Corks and Kegs: Benefits Gimme Shelter Project
DESCRIPTION:Spend your Friday night with your favorite neighbors in West Sacramento! Join us for our "Corks and Kegs" beer and wine tasting event on September 30th from 6-10pm.  Enjoy food\, beer\, wine and music by Flat Busted and local favorites Lady and the Tramps.  All proceeds will go toward the Gimme Shelter Project and help fund a shade structure at the Farmers Market. Grab a babysitter\, tell a friend and come ejoy a night out!
X-ALT-DESC;FMTTYPE=text/html:Spend your Friday night with your favorite neighbors in West Sacramento! Join us for our "Corks and Kegs" beer and wine tasting event on September 30th from 6-10pm.  Enjoy food\, beer\, wine and music by Flat Busted and local favorites Lady and the Tramps.  All proceeds will go toward the Gimme Shelter Project and help fund a shade structure at the Farmers Market. Grab a babysitter\, tell a friend and come ejoy a night out! 
LOCATION:1271 West Capitol Avenue\, West Sacramento\, Ca 95691
UID:e.2957.1091
SEQUENCE:3
DTSTAMP:20260423T103928Z
URL:https://www.westsacramentochamber.com/events/details/corks-and-kegs-benefits-gimme-shelter-project-1091
END:VEVENT

END:VCALENDAR
