BEGIN:VCALENDAR
VERSION:2.0
PRODID:-//ChamberMaster//Event Calendar 2.0//EN
METHOD:PUBLISH
X-PUBLISHED-TTL:P3D
REFRESH-INTERVAL:P3D
CALSCALE:GREGORIAN
BEGIN:VEVENT
DTSTART:20140429T150000Z
DTEND:20140429T163000Z
X-MICROSOFT-CDO-ALLDAYEVENT:FALSE
SUMMARY:Connectionopolis: What's Legal Got to Do With it Social Media in the Workplace
DESCRIPTION:What constitutes acceptable social media practices in the workplace and what does not? Learn at the next Connectionopolis. Presented by labor and employment attorneys from Cook Brown LLP.
X-ALT-DESC;FMTTYPE=text/html:What constitutes acceptable social media practices in the workplace and what does not? Learn at the next Connectionopolis. Presented by labor and employment attorneys from Cook Brown LLP.
LOCATION:KVIE Television Studio\, Sacramento\, CA 95833 KVIE Television Studio\, 2030 W. El Camino Avenue\, Sacramento 95833
UID:e.2957.1303
SEQUENCE:3
DTSTAMP:20260423T121407Z
URL:https://www.westsacramentochamber.com/events/details/connectionopolis-what-s-legal-got-to-do-with-it-social-media-in-the-workplace-1303
END:VEVENT

END:VCALENDAR
