BEGIN:VCALENDAR
VERSION:2.0
PRODID:-//ChamberMaster//Event Calendar 2.0//EN
METHOD:PUBLISH
X-PUBLISHED-TTL:P3D
REFRESH-INTERVAL:P3D
CALSCALE:GREGORIAN
BEGIN:VEVENT
DTSTART:20130523T150000Z
DTEND:20130523T170000Z
X-MICROSOFT-CDO-ALLDAYEVENT:FALSE
SUMMARY:Connectionopolis- Video & Social Media\, Rewriting the Rules of Marketing
DESCRIPTION:Video is the most engaging way to share your message. Using sites such as YouTube\, Vimeo and other video sharing platforms is an easy and effective way to maximize your social media strategy for your business or organization.
X-ALT-DESC;FMTTYPE=text/html:Video is the most engaging way to share your message. Using sites such as YouTube\, Vimeo and other video sharing platforms is an easy and effective way to maximize your social media strategy for your business or organization.
LOCATION:William Jessup University\, Rocklin\, CA 95765 William Jessup University\, 333 Sunset Blvd Rocklin\, CA 95765
UID:e.2957.1197
SEQUENCE:3
DTSTAMP:20260423T104044Z
URL:https://www.westsacramentochamber.com/events/details/connectionopolis-video-social-media-rewriting-the-rules-of-marketing-1197
END:VEVENT

END:VCALENDAR
