BEGIN:VCALENDAR
VERSION:2.0
PRODID:-//ChamberMaster//Event Calendar 2.0//EN
METHOD:PUBLISH
X-PUBLISHED-TTL:P3D
REFRESH-INTERVAL:P3D
CALSCALE:GREGORIAN
BEGIN:VEVENT
DTSTART:20130430T150000Z
DTEND:20130430T163000Z
X-MICROSOFT-CDO-ALLDAYEVENT:FALSE
SUMMARY:Connectionopolis- Staying Golden When Doing Business in the Golden State
DESCRIPTION:Join labor and employment law attorneys and Cook Brown LLP partners Lisa Ryan\, Carrie Bushman and Terry Wills for a dynamic discussion and suggested action plan addressing key issues now facing California employers.  At no time has it ever been more important for employers and human resource professionals to know the law and ensure that employee handbooks are up-to-date.
X-ALT-DESC;FMTTYPE=text/html:Join labor and employment law attorneys and Cook Brown LLP partners Lisa Ryan\, Carrie Bushman and Terry Wills for a dynamic discussion and suggested action plan addressing key issues now facing California employers.  At no time has it ever been more important for employers and human resource professionals to know the law and ensure that employee handbooks are up-to-date.
LOCATION:Raley Field\, West Sacramento\, CA 95691 Raley Field\, 400 Ballpark Dr\, West Sacramento\, CA 95691
UID:e.2957.1194
SEQUENCE:3
DTSTAMP:20260423T103941Z
URL:https://www.westsacramentochamber.com/events/details/connectionopolis-staying-golden-when-doing-business-in-the-golden-state-1194
END:VEVENT

END:VCALENDAR
