BEGIN:VCALENDAR
VERSION:2.0
PRODID:-//ChamberMaster//Event Calendar 2.0//EN
METHOD:PUBLISH
X-PUBLISHED-TTL:P3D
REFRESH-INTERVAL:P3D
CALSCALE:GREGORIAN
BEGIN:VEVENT
DTSTART:20140325T150000Z
DTEND:20140325T163000Z
X-MICROSOFT-CDO-ALLDAYEVENT:FALSE
SUMMARY:Connectionopolis: Nonprofits & Social Media
DESCRIPTION:Network with other professionals and learn how nonprofits can use social media to increase the visibility of their organization and outreach to the community about the services they provide.\nPresented by Scott Moak\, Vice President\, Community Impact and Executive Director of the Sacramento Kings Foundation.
X-ALT-DESC;FMTTYPE=text/html: \nNetwork with other professionals and learn how nonprofits can use social media to increase the visibility of their organization and outreach to the community about the services they provide.\nPresented by Scott Moak\, Vice President\, Community Impact and Executive Director of the Sacramento Kings Foundation.\n
LOCATION:KVIE Public Television Studio\, Sacramento\, CA 95833 KVIE Public Television Studio\, 2030 W. El Camino Avenue Sacramento\, CA 95833
UID:e.2957.1293
SEQUENCE:3
DTSTAMP:20260423T103728Z
URL:https://www.westsacramentochamber.com/events/details/connectionopolis-nonprofits-social-media-1293
END:VEVENT

END:VCALENDAR
