BEGIN:VCALENDAR
VERSION:2.0
PRODID:-//ChamberMaster//Event Calendar 2.0//EN
METHOD:PUBLISH
X-PUBLISHED-TTL:P3D
REFRESH-INTERVAL:P3D
CALSCALE:GREGORIAN
BEGIN:VEVENT
DTSTART:20140529T150000Z
DTEND:20140529T163000Z
X-MICROSOFT-CDO-ALLDAYEVENT:FALSE
SUMMARY:Connectionopolis: Next Big Thing in Social Media
DESCRIPTION:Staying current on social media trends is no easy task. Looking ahead to be at the forefront of emerging treads can seem overwhelming.\nHear from the experts what to focus your energy on\, what to start integrating into your social media mix and what is on its way out.\nPanelists include:\n• Sonya Sorich\, reporter and social engagement manager\, Sacramento Business Journal\n• Josh Unfried\, CEO\, WindFarm Marketing\n• Callie Ziemer\, account supervisor\, Edelman Sacramento\nModerated by Scott Eggert\, digital and social media strategist
X-ALT-DESC;FMTTYPE=text/html:Staying current on social media trends is no easy task. Looking ahead to be at the forefront of emerging treads can seem overwhelming.\nHear from the experts what to focus your energy on\, what to start integrating into your social media mix and what is on its way out.\nPanelists include:\n• Sonya Sorich\, reporter and social engagement manager\, Sacramento Business Journal\n• Josh Unfried\, CEO\, WindFarm Marketing\n• Callie Ziemer\, account supervisor\, Edelman Sacramento\nModerated by Scott Eggert\, digital and social media strategist\n
LOCATION:William Jessup University\, Rocklin\, CA 95765 William Jessup University\, 333 Sunset Blvd\, Rocklin\, CA 95765
UID:e.2957.1312
SEQUENCE:3
DTSTAMP:20260423T121118Z
URL:https://www.westsacramentochamber.com/events/details/connectionopolis-next-big-thing-in-social-media-1312
END:VEVENT

END:VCALENDAR
