BEGIN:VCALENDAR
VERSION:2.0
PRODID:-//ChamberMaster//Event Calendar 2.0//EN
METHOD:PUBLISH
X-PUBLISHED-TTL:P3D
REFRESH-INTERVAL:P3D
CALSCALE:GREGORIAN
BEGIN:VEVENT
DTSTART:20130924T143000Z
DTEND:20130924T163000Z
X-MICROSOFT-CDO-ALLDAYEVENT:FALSE
SUMMARY:Connectionopolis: Blogging for Business
DESCRIPTION:More and more\, businesses are using a company blogs to connect with customers. Learn how to make a blog work for you and how to keep it fresh and interesting for your readers. Presented by Jennifer Bourn\, an award-winning creative director\, strategist and lead designer for the digital consultancy\, Bourn Creative. Tickets starting at $10.
X-ALT-DESC;FMTTYPE=text/html:More and more\, businesses are using a company blogs to connect with customers. Learn how to make a blog work for you and how to keep it fresh and interesting for your readers. Presented by Jennifer Bourn\, an award-winning creative director\, strategist and lead designer for the digital consultancy\, Bourn Creative. Tickets starting at $10.
LOCATION:Holiday Inn Express\, El Dorado Hills\, CA 95762 Holiday Inn Express\, 4360 Town Center Blvd\, El Dorado Hills\, CA 95762
UID:e.2957.1214
SEQUENCE:3
DTSTAMP:20260423T103727Z
URL:https://www.westsacramentochamber.com/events/details/connectionopolis-blogging-for-business-1214
END:VEVENT

END:VCALENDAR
