BEGIN:VCALENDAR
VERSION:2.0
PRODID:-//ChamberMaster//Event Calendar 2.0//EN
METHOD:PUBLISH
X-PUBLISHED-TTL:P3D
REFRESH-INTERVAL:P3D
CALSCALE:GREGORIAN
BEGIN:VEVENT
DTSTART:20120425T000000Z
DTEND:20120425T023000Z
X-MICROSOFT-CDO-ALLDAYEVENT:FALSE
SUMMARY:Connectionopolis
DESCRIPTION:Often overlooked\, misunderstood and misused\, LinkedIn is an\neffective tool to manage your professional connections.\nWhether you are searching\, recruiting\, selling\, researching or\ncollaborating\, LinkedIn is valuable for leveraging your network.\nAlso Featuring:\n• How to use the Business Journal to attract new business\n• Opportunities to connect with local business leaders —\nnetwork from 5:00-6:00 p.m.\n• Food & beverage by Panera Bread Catering
X-ALT-DESC;FMTTYPE=text/html:Often overlooked\, misunderstood and misused\, LinkedIn is an\neffective tool to manage your professional connections.\nWhether you are searching\, recruiting\, selling\, researching or\ncollaborating\, LinkedIn is valuable for leveraging your network.\nAlso Featuring:\n• How to use the Business Journal to attract new business\n• Opportunities to connect with local business leaders —\nnetwork from 5:00-6:00 p.m.\n• Food & beverage by Panera Bread Catering
LOCATION:4602 2nd St.\, \, Davis\, CA 95616 Rominger West Winery 4602 2nd St.\, Davis
UID:e.2957.1146
SEQUENCE:3
DTSTAMP:20260423T133902Z
URL:https://www.westsacramentochamber.com/events/details/connectionopolis-04-24-2012-1146
END:VEVENT

END:VCALENDAR
