BEGIN:VCALENDAR
VERSION:2.0
PRODID:-//ChamberMaster//Event Calendar 2.0//EN
METHOD:PUBLISH
X-PUBLISHED-TTL:P3D
REFRESH-INTERVAL:P3D
CALSCALE:GREGORIAN
BEGIN:VEVENT
DTSTART:20110625T150000Z
DTEND:20110625T220000Z
X-MICROSOFT-CDO-ALLDAYEVENT:FALSE
SUMMARY:Community Yard Sale hosted by the Food Bank of Yolo County
DESCRIPTION:Community Yard Sale hosted by the Food Bank of Yolo County Saturday\, June 25th from 8am-3pm\n\nTired of driving around all day for those weekend bargains? Bring your family and friends to the Food Bank to see what our neighbors are selling. Our Quick &\nFresh Market will have food and beverages for sale\, we'll provide fun music\, and of course shopping!\n\nWant to sell your unwanted items at this event? All you have to do is pack up your goods\, set up shop\, and sell. Registration is only $5! Please contact Shawn Kramer at (530) 668-0690 x 106 or shawn@foodbankyc.org for more information.
X-ALT-DESC;FMTTYPE=text/html:Community Yard Sale hosted by the Food Bank of Yolo County Saturday\, June 25th from 8am-3pm\n\nTired of driving around all day for those weekend bargains? Bring your family and friends to the Food Bank to see what our neighbors are selling. Our Quick &\nFresh Market will have food and beverages for sale\, we'll provide fun music\, and of course shopping!\n\nWant to sell your unwanted items at this event? All you have to do is pack up your goods\, set up shop\, and sell. Registration is only $5! Please contact Shawn Kramer at (530) 668-0690 x 106 or shawn@foodbankyc.org for more information.
LOCATION:1244 Fortna Avenue\, Woodland\, CA 95776 Food Bank of Yolo County 1244 Fortna Ave. Woodland CA\, 95776 From W. Sacramento: I-80 W to I-5 N toward Redding I-5 N to 113 N exit toward Yuba City Turn left on 113 S/N East St. Take the third left onto Fortna Ave. The Food Bank will be on the right hand side.
UID:e.2957.1079
SEQUENCE:3
DTSTAMP:20260422T165140Z
URL:https://www.westsacramentochamber.com/events/details/community-yard-sale-hosted-by-the-food-bank-of-yolo-county-1079
END:VEVENT

END:VCALENDAR
