BEGIN:VCALENDAR
VERSION:2.0
PRODID:-//ChamberMaster//Event Calendar 2.0//EN
METHOD:PUBLISH
X-PUBLISHED-TTL:P3D
REFRESH-INTERVAL:P3D
CALSCALE:GREGORIAN
BEGIN:VEVENT
DTSTART:20260514T180000Z
DTEND:20260514T190000Z
X-MICROSOFT-CDO-ALLDAYEVENT:FALSE
SUMMARY:College Readiness Series: Options to Pay Your Remaining Balance for College
DESCRIPTION:Many students and families will consider financing a portion of their college education. This session will focus on encouraging responsible borrowing and what students and families can do to find the right solution for their borrowing needs.\n\n \nTopics Covered\n\n\n  Responsible borrowing\n\n  Financing options \n\n  Planning for the future
X-ALT-DESC;FMTTYPE=text/html:<span style="color:rgb(74\, 74\, 74)\; font-family:outfit\,sans-serif\; font-size:16px">Many students and families will consider financing a portion of their college education. This session will focus on encouraging responsible borrowing and what students and families can do to find the right solution for their borrowing needs.</span><br />\n&nbsp\;\n<h4>Topics Covered</h4>\n\n<div>\n<div>&bull\; Responsible borrowing</div>\n\n<div>&bull\; Financing options&nbsp\;</div>\n\n<div>&bull\; Planning for the future</div>\n</div>\n<br />\n&nbsp\;
LOCATION:FREE Virtual Webinar
UID:e.2957.5218
SEQUENCE:3
DTSTAMP:20260423T220322Z
URL:https://www.westsacramentochamber.com/events/details/college-readiness-series-options-to-pay-your-remaining-balance-for-college-5218
END:VEVENT

END:VCALENDAR
