BEGIN:VCALENDAR
VERSION:2.0
PRODID:-//ChamberMaster//Event Calendar 2.0//EN
METHOD:PUBLISH
X-PUBLISHED-TTL:P3D
REFRESH-INTERVAL:P3D
CALSCALE:GREGORIAN
BEGIN:VEVENT
DTSTART:20081206T020000Z
DTEND:20081206T043000Z
X-MICROSOFT-CDO-ALLDAYEVENT:FALSE
SUMMARY:Christmas Tree Lighting
DESCRIPTION:Come out and enjoy an evening of singing\, cookies and hot cider as the Tree is lit. The kids can get a keepsake picture on Santa's lap and gifts will be handed out. It will be fun for all ages!!!
X-ALT-DESC;FMTTYPE=text/html:Come out and enjoy an evening of singing\, cookies and hot cider as the Tree is lit. The kids can get a keepsake picture on Santa's lap and gifts will be handed out. It will be fun for all ages!!! 
LOCATION:1110 West Capitol Avenue\, West Sacramento\, CA 95691
UID:e.2957.511
SEQUENCE:3
DTSTAMP:20260425T221940Z
URL:https://www.westsacramentochamber.com/events/details/christmas-tree-lighting-12-05-2008-511
END:VEVENT

END:VCALENDAR
