BEGIN:VCALENDAR
VERSION:2.0
PRODID:-//ChamberMaster//Event Calendar 2.0//EN
METHOD:PUBLISH
X-PUBLISHED-TTL:P3D
REFRESH-INTERVAL:P3D
CALSCALE:GREGORIAN
BEGIN:VEVENT
DTSTART:20240823T000000Z
DTEND:20240823T013000Z
X-MICROSOFT-CDO-ALLDAYEVENT:FALSE
SUMMARY:Cheers with the Chamber at Westbridge Plaza
DESCRIPTION:Pre-registration is closed but you can still join the fun! Come by and check in at the registration table. \n\n\n\nJoin the West Sacramento Chamber of Commerce for Cheers with the Chamber at Westridge Plaza on Thursday\, August 22 from 5:00pm-6:30pm. We'll enjoy an evening of networking\, visiting Chamber members in the plaza\, deals from some of our Chamber members\, and enter to win a prize! \n\n\n\nPre-purchase your deal before attending!\n\n\n\nStreets of London Pub \n\n    Berry mixed green salad with chicken and a blackberry bramble $20\n\n    Kona Big Wave Pint and keep the glass $6 \n\n\n\nROCO\n\n    Pint night & keep the glass $8 \n\n    Complimentary Wine Tasting (members only)\n\n    Elijah Craig small batch Bourbon $19.99 - purchase at location only during mixer. \n\n\n\nThis is open to Chamber members and the community. Please register to let us know you're coming or pre-purchase your deal. Attendees will report to the check-in table at Street of London\, where they will receive a stamp card. The stamp card will allow you to visit our other Chamber members in the Plaza such as Akasha Yoga\, State Farm\, Tsuki Sushi\, Roco\, R+H Aesthetic Medicine\, and Yolo Federal Credit Union. You'll need to visit each location to receive a stamp on your card. Once completed\, you'll return back to registration table at Streets of London to turn in your stamp card. Your card will be entered to win a prize. Winner will be announced that night.
X-ALT-DESC;FMTTYPE=text/html:<span style="color: rgb(51\, 51\, 51)\; font-family: sans-serif\, Arial\, Verdana\, &quot\;Trebuchet MS&quot\;\; font-size: 13px\; background-color: rgb(255\, 255\, 255)\;"><strong>Pre-registration is closed but you can still join the fun! Come by and check in at the registration table.&nbsp\;</strong><br />\n<br />\nJoin the West Sacramento Chamber of Commerce for Cheers with the Chamber at Westridge Plaza on Thursday\, August 22 from 5:00pm-6:30pm. We&#39\;ll enjoy an evening of networking\, visiting Chamber members in the plaza\, deals from some of our Chamber members\, and enter to win a prize!&nbsp\;<br />\n<br />\nPre-purchase your deal before attending!<br />\n<br />\nStreets of London Pub&nbsp\;</span><br />\n&nbsp\; &nbsp\; Berry mixed green salad with chicken and a blackberry bramble $20<br />\n&nbsp\; &nbsp\; Kona Big Wave Pint and keep the glass $6&nbsp\;<br />\n<br />\nROCO<br />\n&nbsp\; &nbsp\; Pint night &amp\; keep the glass $8&nbsp\;<br />\n&nbsp\; &nbsp\; Complimentary Wine Tasting (members only)<br />\n&nbsp\;&nbsp\;&nbsp\;&nbsp\;Elijah Craig small batch Bourbon $19.99 - purchase at location only during mixer.&nbsp\;<br />\n<br />\n<span style="color: rgb(51\, 51\, 51)\; font-family: sans-serif\, Arial\, Verdana\, &quot\;Trebuchet MS&quot\;\; font-size: 13px\; background-color: rgb(255\, 255\, 255)\;">This is open to Chamber members and the community. Please register to let us know you&#39\;re coming or pre-purchase your deal. Attendees will report to the check-in table at Street of London\, where they will receive a stamp card. The stamp card will allow you to visit our other Chamber members in the Plaza such as Akasha Yoga\, State Farm\, Tsuki Sushi\, Roco\, R+H Aesthetic Medicine\, and Yolo Federal Credit Union. You&#39\;ll need to visit each location to receive a stamp on your card. Once completed\, you&#39\;ll return back to registration table at Streets of London to turn in your stamp card. Your card will be entered to win a prize. Winner will be announced that night.&nbsp\;</span><br style="color: rgb(51\, 51\, 51)\; font-family: sans-serif\, Arial\, Verdana\, &quot\;Trebuchet MS&quot\;\; font-size: 13px\;" />\n&nbsp\;
LOCATION:Westbridge Plaza Starting point - Streets of London Pub
UID:e.2957.4200
SEQUENCE:3
DTSTAMP:20260424T095229Z
URL:https://www.westsacramentochamber.com/events/details/cheers-with-the-chamber-at-westbridge-plaza-4200
END:VEVENT

END:VCALENDAR
