BEGIN:VCALENDAR
VERSION:2.0
PRODID:-//ChamberMaster//Event Calendar 2.0//EN
METHOD:PUBLISH
X-PUBLISHED-TTL:P3D
REFRESH-INTERVAL:P3D
CALSCALE:GREGORIAN
BEGIN:VEVENT
DTSTART:20220728T000000Z
DTEND:20220728T013000Z
X-MICROSOFT-CDO-ALLDAYEVENT:FALSE
SUMMARY:Cheers with the Chamber! at Roco Taproom
DESCRIPTION:REGISTRATION IS CLOSED! IF YOU WOULD LIKE TO ATTEND\, PLEASE SHOW UP AND REPORT TO THE CHECK-IN TABLE. \n\n\n\nJoin the West Sacramento Chamber of Commerce for "Cheers with the Chamber!" at Roco Taproom. A fun and free Chamber member event on Wednesday\, July 27 from 5:00pm-6:30pm sponsored by Ryan Maguire- State Farm. We'll enjoy an evening of networking with other Chamber members\, prospects\, drinks\, and food! \n\n\n\nROCO Taproom\n\nWednesday\, July 27\n\n5:00pm-6:30pm\n\n\n\nYou can pre-purchase the special deal or just register for free to let us know you're coming! Deal will be available at the event. \n \n\n4 tacos & 3 pints of beer\n\n$25\n\n\n\n4 tacos & a bottle of wine\n\n$25\n\n\n\n*Pick your meat at event\n\n\n.\n\n.\n\nChamber members are encouraged to bring a prospective business member guest. The prospect must be interested in joining the West Sac Chamber and can only attend if invited by a Chamber member or Chamber staff. Register yourself and your guest to let us know you're coming as space is limited!
X-ALT-DESC;FMTTYPE=text/html:<strong><span style="color:#FF0000\;"><span style="font-family: sans-serif\, Arial\, Verdana\, &quot\;Trebuchet MS&quot\;\; font-size: 13px\; background-color: rgb(255\, 255\, 255)\;">REGISTRATION IS CLOSED! IF YOU WOULD LIKE TO ATTEND\, PLEASE SHOW UP AND REPORT TO THE CHECK-IN TABLE.&nbsp\;</span></span></strong><br />\n<br />\n<span style="color: rgb(51\, 51\, 51)\; font-family: sans-serif\, Arial\, Verdana\, &quot\;Trebuchet MS&quot\;\; font-size: 13px\; background-color: rgb(255\, 255\, 255)\;">Join the West Sacramento Chamber of Commerce for &quot\;Cheers with the Chamber!&quot\; at <a href="https://rocospirits.com/">Roco Taproom</a>. A fun and free Chamber member event on Wednesday\, July 27 from 5:00pm-6:30pm sponsored by <a href="https://www.ryanmaguire.com/?cmpid=y75r_blm_0001">Ryan Maguire- State Farm</a>. We&#39\;ll enjoy an evening of networking with other Chamber members\, prospects\, drinks\, and food!&nbsp\;</span><br style="color: rgb(51\, 51\, 51)\; font-family: sans-serif\, Arial\, Verdana\, &quot\;Trebuchet MS&quot\;\; font-size: 13px\;" />\n<br style="color: rgb(51\, 51\, 51)\; font-family: sans-serif\, Arial\, Verdana\, &quot\;Trebuchet MS&quot\;\; font-size: 13px\;" />\n<span style="color: rgb(51\, 51\, 51)\; font-family: sans-serif\, Arial\, Verdana\, &quot\;Trebuchet MS&quot\;\; font-size: 13px\; background-color: rgb(255\, 255\, 255)\;"><strong>ROCO Taproom</strong></span><br />\nWednesday\, July 27<br />\n5:00pm-6:30pm<br />\n<br />\n<span style="color: rgb(51\, 51\, 51)\; font-family: sans-serif\, Arial\, Verdana\, &quot\;Trebuchet MS&quot\;\; font-size: 13px\; background-color: rgb(255\, 255\, 255)\;">You can pre-purchase the special deal or just register for free to let us know you&#39\;re coming! Deal will be available at the event.&nbsp\;</span>\n<div>&nbsp\;</div>\n\n<div><span style="color: rgb(51\, 51\, 51)\; font-family: sans-serif\, Arial\, Verdana\, &quot\;Trebuchet MS&quot\;\; font-size: 13px\; background-color: rgb(255\, 255\, 255)\;">4 tacos &amp\; 3 pints of beer</span><br style="color: rgb(51\, 51\, 51)\; font-family: sans-serif\, Arial\, Verdana\, &quot\;Trebuchet MS&quot\;\; font-size: 13px\;" />\n<span style="color: rgb(51\, 51\, 51)\; font-family: sans-serif\, Arial\, Verdana\, &quot\;Trebuchet MS&quot\;\; font-size: 13px\; background-color: rgb(255\, 255\, 255)\;">$25</span><br style="color: rgb(51\, 51\, 51)\; font-family: sans-serif\, Arial\, Verdana\, &quot\;Trebuchet MS&quot\;\; font-size: 13px\;" />\n<br style="color: rgb(51\, 51\, 51)\; font-family: sans-serif\, Arial\, Verdana\, &quot\;Trebuchet MS&quot\;\; font-size: 13px\;" />\n<span style="color: rgb(51\, 51\, 51)\; font-family: sans-serif\, Arial\, Verdana\, &quot\;Trebuchet MS&quot\;\; font-size: 13px\; background-color: rgb(255\, 255\, 255)\;">4 tacos &amp\; a bottle of wine</span><br style="color: rgb(51\, 51\, 51)\; font-family: sans-serif\, Arial\, Verdana\, &quot\;Trebuchet MS&quot\;\; font-size: 13px\;" />\n<span style="color: rgb(51\, 51\, 51)\; font-family: sans-serif\, Arial\, Verdana\, &quot\;Trebuchet MS&quot\;\; font-size: 13px\; background-color: rgb(255\, 255\, 255)\;">$25</span><br style="color: rgb(51\, 51\, 51)\; font-family: sans-serif\, Arial\, Verdana\, &quot\;Trebuchet MS&quot\;\; font-size: 13px\;" />\n<br style="color: rgb(51\, 51\, 51)\; font-family: sans-serif\, Arial\, Verdana\, &quot\;Trebuchet MS&quot\;\; font-size: 13px\;" />\n<em><span style="color: rgb(51\, 51\, 51)\; font-family: sans-serif\, Arial\, Verdana\, &quot\;Trebuchet MS&quot\;\; font-size: 13px\; background-color: rgb(255\, 255\, 255)\;">*Pick your meat at event</span></em></div>\n<br />\n.<br />\n.<br style="color: rgb(51\, 51\, 51)\; font-family: sans-serif\, Arial\, Verdana\, &quot\;Trebuchet MS&quot\;\; font-size: 13px\;" />\n<em style="color: rgb(51\, 51\, 51)\; font-family: sans-serif\, Arial\, Verdana\, &quot\;Trebuchet MS&quot\;\; font-size: 13px\;">Chamber members are encouraged to bring a prospective business member guest. The prospect must be interested in joining the West Sac Chamber and can only attend if invited by a Chamber member or Chamber staff. Register yourself and your guest to let us know you&#39\;re coming as space is limited!&nbsp\;</em>
LOCATION:Roco Taproom 2220 Lake Washington Blvd. West Sacramento\, CA 95691
UID:e.2957.3571
SEQUENCE:3
DTSTAMP:20260425T184631Z
URL:https://www.westsacramentochamber.com/events/details/cheers-with-the-chamber-at-roco-taproom-3571
END:VEVENT

END:VCALENDAR
