BEGIN:VCALENDAR
VERSION:2.0
PRODID:-//ChamberMaster//Event Calendar 2.0//EN
METHOD:PUBLISH
X-PUBLISHED-TTL:P3D
REFRESH-INTERVAL:P3D
CALSCALE:GREGORIAN
BEGIN:VEVENT
DTSTART:20130719T183000Z
DTEND:20130719T203000Z
X-MICROSOFT-CDO-ALLDAYEVENT:FALSE
SUMMARY:CFO of the Year Awards
DESCRIPTION:Join the Sacramento Business Journal for the CFO of the Year awards luncheon as we honor all the finalists and announce the 2013 winners! Our region is home to an array of top-notch companies and it's time the financial gurus guiding them were rewarded for their outstanding performances! Keynote by Mark Friedman\, part owner of the Sacramento Kings and responsible for the team's efforts to build a new entertainment and sports complex in downtown Sacramento.
X-ALT-DESC;FMTTYPE=text/html:Join the Sacramento Business Journal for the CFO of the Year awards luncheon as we honor all the finalists and announce the 2013 winners! Our region is home to an array of top-notch companies and it's time the financial gurus guiding them were rewarded for their outstanding performances! Keynote by Mark Friedman\, part owner of the Sacramento Kings and responsible for the team's efforts to build a new entertainment and sports complex in downtown Sacramento.
LOCATION:Sheraton Grand Sacramento\, Sacramento\, CA 95814 Sheraton Grand Sacramento 1230 J St Sacramento\, CA 95814
UID:e.2957.1204
SEQUENCE:3
DTSTAMP:20260423T121218Z
URL:https://www.westsacramentochamber.com/events/details/cfo-of-the-year-awards-1204
END:VEVENT

END:VCALENDAR
