BEGIN:VCALENDAR
VERSION:2.0
PRODID:-//ChamberMaster//Event Calendar 2.0//EN
METHOD:PUBLISH
X-PUBLISHED-TTL:P3D
REFRESH-INTERVAL:P3D
CALSCALE:GREGORIAN
BEGIN:VEVENT
DTSTART:20120901T170000Z
DTEND:20120901T220000Z
X-MICROSOFT-CDO-ALLDAYEVENT:FALSE
SUMMARY:Celebrate the Community - a Multicultural Event
DESCRIPTION:Community Fair and Parade. Parade begins at 10:00 a.m. at Bryte Park & finishes at Bryte Park. FOOD\, GAMES\, LOCAL VENDORS\, LOTS OF FAMILY FUN. Vendors and parade participants must register by August 24\, 2012.
X-ALT-DESC;FMTTYPE=text/html:Community Fair and Parade. Parade begins at 10:00 a.m. at Bryte Park & finishes at Bryte Park. FOOD\, GAMES\, LOCAL VENDORS\, LOTS OF FAMILY FUN. Vendors and parade participants must register by August 24\, 2012. 
LOCATION:Carrie and Todhunter\, West Sacramento\, CA 95605 Carrie and Todhunter\, West Sacramento CA 95605
UID:e.2957.1155
SEQUENCE:3
DTSTAMP:20260422T135246Z
URL:https://www.westsacramentochamber.com/events/details/celebrate-the-community-a-multicultural-event-1155
END:VEVENT

END:VCALENDAR
