BEGIN:VCALENDAR
VERSION:2.0
PRODID:-//ChamberMaster//Event Calendar 2.0//EN
METHOD:PUBLISH
X-PUBLISHED-TTL:P3D
REFRESH-INTERVAL:P3D
CALSCALE:GREGORIAN
BEGIN:VEVENT
DTSTART:20121005T010000Z
DTEND:20121005T040000Z
X-MICROSOFT-CDO-ALLDAYEVENT:FALSE
SUMMARY:Candidates Forum- School Board & City Council
DESCRIPTION:The West Sacramento Chamber of Commerce and Soroptimist International of West Sacramento are sponsoring a public Candidates Forum to bring the business community and residents of West Sacramento together with political candidates in a discussion of key issues. This is an opportunity for candidates to explain their positions on important policy issues.\n\n\n\nCity Council: William (Bill) Kristoff\, Oscar Villegas\, Oleg Maskaev \n\nSchool Board: Dave Westin\, Coby Pizzotti\, Alicia Cruz\, Katie Villegas\, Walt Bowman\, Mary Leland\, Roy Sianez
X-ALT-DESC;FMTTYPE=text/html:<p style="text-align: left\;"><span style="font-family: arial\; font-size: 12px\;">The West Sacramento Chamber of Commerce and Soroptimist International of West Sacramento are sponsoring a public Candidates Forum to bring the business community and residents of West Sacramento together with political candidates in a discussion of key issues. This is an opportunity for candidates to explain their positions on important policy issues.<br />\n<br />\n<em><strong>City Council:</strong></em> William (Bill) Kristoff\, Oscar Villegas\, Oleg Maskaev <br />\n<em><strong>School Board:</strong></em> Dave Westin\, Coby Pizzotti\, Alicia Cruz\, Katie Villegas\, Walt Bowman\, Mary Leland\, Roy Sianez</span></p>
LOCATION:1275 Starboard Drive\, West Sacramento\, CA 95691
UID:e.2957.1158
SEQUENCE:3
DTSTAMP:20260422T171655Z
URL:https://www.westsacramentochamber.com/events/details/candidates-forum-school-board-city-council-1158
END:VEVENT

END:VCALENDAR
