BEGIN:VCALENDAR
VERSION:2.0
PRODID:-//ChamberMaster//Event Calendar 2.0//EN
METHOD:PUBLISH
X-PUBLISHED-TTL:P3D
REFRESH-INTERVAL:P3D
CALSCALE:GREGORIAN
BEGIN:VEVENT
DTSTART:20110518T160000Z
DTEND:20110518T190000Z
X-MICROSOFT-CDO-ALLDAYEVENT:FALSE
SUMMARY:Caltrans Disadvantaged Business Enterprise Certification
DESCRIPTION:Cost: FREE \nThis class will cover the following:\n• The DBE Program overview\n• Why to become certified\n• Eligibility for certification\n• Completing the application\n• Submitting the application\n• Review of the application by Caltrans\n• Program participation\n• Application renewal\n Who Should Attend:\n• Small businesses* that are:\n        - Women-owned\; and/or\n        - Minority-owned**\n        - Interested in doing business with Caltrans\n• Small businesses that have gross receipts <$22.41 million\n  (average of previous three years)\n• Small businesses that are eligible for certification \n\nRegister at www.theFTC.org or call toll-free 866.382.7822
X-ALT-DESC;FMTTYPE=text/html:Cost: FREE \nThis class will cover the following:\n• The DBE Program overview\n• Why to become certified\n• Eligibility for certification\n• Completing the application\n• Submitting the application\n• Review of the application by Caltrans\n• Program participation\n• Application renewal\n Who Should Attend:\n• Small businesses* that are:\n        - Women-owned\; and/or\n        - Minority-owned**\n        - Interested in doing business with Caltrans\n• Small businesses that have gross receipts <$22.41 million\n  (average of previous three years)\n• Small businesses that are eligible for certification \n\nRegister at www.theFTC.org or call toll-free 866.382.7822
LOCATION:4990 Stockton Blvd\, Sacramento\, CA 95820 Stockton Blvd Business Information Center
UID:e.2957.1063
SEQUENCE:3
DTSTAMP:20260423T121201Z
URL:https://www.westsacramentochamber.com/events/details/caltrans-disadvantaged-business-enterprise-certification-05-18-2011-1063
END:VEVENT

END:VCALENDAR
