BEGIN:VCALENDAR
VERSION:2.0
PRODID:-//ChamberMaster//Event Calendar 2.0//EN
METHOD:PUBLISH
X-PUBLISHED-TTL:P3D
REFRESH-INTERVAL:P3D
CALSCALE:GREGORIAN
BEGIN:VEVENT
DTSTART:20100708T003000Z
DTEND:20100708T033000Z
X-MICROSOFT-CDO-ALLDAYEVENT:FALSE
SUMMARY:California's Grape & Gourmet
DESCRIPTION:You are invited to California's premier wine and food tasting event. California's Grape & Gourmet is a charity event produced by the California State Fair to benifit the Friends of the California State Fair Scholarship Fund. Taste from over 600 medal-winning wines of the 2010 California State Fair Wine Competition. Sample from 75 of Sacramento's finest restaurants & food purveyors. Enjoy award-winning microbrews and cheeses. It will be held at Sacramento Convention Center in Sacramento on Wednesday\, July 7th. Don't miss this spectacular annual charity event.
X-ALT-DESC;FMTTYPE=text/html:You are invited to California's premier wine and food tasting event. California's Grape & Gourmet is a charity event produced by the California State Fair to benifit the Friends of the California State Fair Scholarship Fund. Taste from over 600 medal-winning wines of the 2010 California State Fair Wine Competition. Sample from 75 of Sacramento's finest restaurants & food purveyors. Enjoy award-winning microbrews and cheeses. It will be held at Sacramento Convention Center in Sacramento on Wednesday\, July 7th. Don't miss this spectacular annual charity event. \n
LOCATION:Sacramento Convention Center\, Sacramento\, CA 95814 Sacramento Convention Center 1400 J Street Sacramento\, CA 95814
UID:e.2957.980
SEQUENCE:3
DTSTAMP:20260422T164901Z
URL:https://www.westsacramentochamber.com/events/details/california-s-grape-gourmet-980
END:VEVENT

END:VCALENDAR
