BEGIN:VCALENDAR
VERSION:2.0
PRODID:-//ChamberMaster//Event Calendar 2.0//EN
METHOD:PUBLISH
X-PUBLISHED-TTL:P3D
REFRESH-INTERVAL:P3D
CALSCALE:GREGORIAN
BEGIN:VEVENT
DTSTART:20090401T170000Z
DTEND:20090401T180000Z
X-MICROSOFT-CDO-ALLDAYEVENT:FALSE
SUMMARY:California Historical Land Mark #1040 Plaque Unveiling
DESCRIPTION:Join us for the plaque unveiling of California Registered Historical Landmark #104\, Hapgood\, Hume\, and Company - First Pacific Coast Salmon Cannery\n\n\n    April 1\, 2009\, 10:00am @ River Walk Park in West Sacramento\n\n\n    Speakers include:\n\n\n    \n        Denice Seals\, CEO of the West Sacramento Chamber\n    \n    \n        Thom Lewis\, President of the West Sacramento Historical Society\n    \n    \n        Jay Correia\, Supervisor\, State Historian III\, State of CA\, Department of Parks and Recreation\, Office of Historic Presercation\n    \n    \n        Christopher Cabaldon\, Mayor of West Sacramento
X-ALT-DESC;FMTTYPE=text/html:<p>\n    <font face="Century Gothic" size="4">Join us for the&nbsp\;plaque unveiling of California Registered Historical Landmark #104\, </font><font face="Century Gothic" size="4">Hapgood\, Hume\, and Company - First Pacific Coast Salmon Cannery</font>\n</p>\n<p>\n    <font face="Century Gothic" size="4">April 1\, 2009\, 10:00am @ River Walk Park in West Sacramento</font>\n</p>\n<p>\n    <font face="Century Gothic" size="4">Speakers include:</font>\n</p>\n<ul>\n    <li>\n        <font face="Century Gothic" size="4">Denice Seals\, CEO of the West Sacramento Chamber</font>\n    </li>\n    <li>\n        <font face="Century Gothic" size="4">Thom Lewis\, President of the West Sacramento Historical Society</font>\n    </li>\n    <li>\n        <font face="Century Gothic" size="4">Jay Correia\, Supervisor\, State Historian III\, State of CA\, Department of Parks and Recreation\, Office of Historic Presercation</font>\n    </li>\n    <li>\n        <font face="Century Gothic" size="4">Christopher Cabaldon\, Mayor of West Sacramento</font>\n    </li>\n</ul>\n<p>\n    <font face="Century Gothic" size="4"></font>&nbsp\;\n</p>
LOCATION:River Walk Park\, West Sacramento\, CA 95605
UID:e.2957.846
SEQUENCE:3
DTSTAMP:20260425T153247Z
URL:https://www.westsacramentochamber.com/events/details/california-historical-land-mark-1040-plaque-unveiling-846
END:VEVENT

END:VCALENDAR
