BEGIN:VCALENDAR
VERSION:2.0
PRODID:-//ChamberMaster//Event Calendar 2.0//EN
METHOD:PUBLISH
X-PUBLISHED-TTL:P3D
REFRESH-INTERVAL:P3D
CALSCALE:GREGORIAN
BEGIN:VEVENT
DTSTART:20100408T233000Z
DTEND:20100408T233000Z
X-MICROSOFT-CDO-ALLDAYEVENT:FALSE
SUMMARY:Cal Expo Harness Racing
DESCRIPTION:Cal Expo is home to the only LIVE Harness Racing on the West Coast! Come on any Thursdays for a complete lasagna dinner for only $3! Friday's Happy Hour specials include $1 beer\, $2 wine and $3 Buffalo Wings! You can't beat Saturday's deals where beer\, wine\, soda & hotdogs are all $1 each.
X-ALT-DESC;FMTTYPE=text/html:Cal Expo is home to the only LIVE Harness Racing on the West Coast! Come on any Thursdays for a complete lasagna dinner for only $3! Friday's Happy Hour specials include $1 beer\, $2 wine and $3 Buffalo Wings! You can't beat Saturday's deals where beer\, wine\, soda & hotdogs are all $1 each.
LOCATION:Cal Expo\, Sacramento\, CA 95815 Cal Expo Miller-Lite Grandstand 1600 Exposition Blvd. Sacramento \, CA 95815 Driving Directions From the Bay Area Take Highway 80 (East) to Capitol City Freeway (Business 80) (North). Exit Exposition Blvd. From Stockton Take Highway 5 (North) to Highway 50 (East) or Highway 99 (North). Travel Capitol City Freeway (Business 80) (North). Exit Exposition Blvd. From Tahoe Area Northshore\, take Highway 80 (West) to Capitol City Freeway (Business 80) (South). Exit Exposition Blvd. Southshore\, take Highway 50 (West) to Capitol City Freeway (Business 80) (South). Exit Exposition Blvd. From Placerville Take Highway 50 (West) to Howe Ave. (North). Turn left on Hurley Way . Turn right at Ethan Way \, then left on Exposition Blvd. From Redding Take Highway 80 (South) to Highway 50 (East). Travel Capitol City Freeway (Business 80) (North). Exit Exposition Blvd.
UID:e.2957.981
SEQUENCE:3
DTSTAMP:20260422T150840Z
URL:https://www.westsacramentochamber.com/events/details/cal-expo-harness-racing-981
END:VEVENT

END:VCALENDAR
