BEGIN:VCALENDAR
VERSION:2.0
PRODID:-//ChamberMaster//Event Calendar 2.0//EN
METHOD:PUBLISH
X-PUBLISHED-TTL:P3D
REFRESH-INTERVAL:P3D
CALSCALE:GREGORIAN
BEGIN:VEVENT
DTSTART:20090528T003000Z
DTEND:20090528T023000Z
X-MICROSOFT-CDO-ALLDAYEVENT:FALSE
SUMMARY:Business Networking Roundtable
DESCRIPTION:The Sacramento Hispanic Chamber of Commerce invites you to participate in a Networking Roundtable event. Come meet other business professionals looking to make contacts with the goal of advancing their businesses.
X-ALT-DESC;FMTTYPE=text/html:The Sacramento Hispanic Chamber of Commerce invites you to participate in a Networking Roundtable event. Come meet other business professionals looking to make contacts with the goal of advancing their businesses. 
LOCATION:700 IKEA Court\, Sacramento\, CA 95605 IKEA
UID:e.2957.845
SEQUENCE:3
DTSTAMP:20260425T201020Z
URL:https://www.westsacramentochamber.com/events/details/business-networking-roundtable-845
END:VEVENT

END:VCALENDAR
