BEGIN:VCALENDAR
VERSION:2.0
PRODID:-//ChamberMaster//Event Calendar 2.0//EN
METHOD:PUBLISH
X-PUBLISHED-TTL:P3D
REFRESH-INTERVAL:P3D
CALSCALE:GREGORIAN
BEGIN:VEVENT
DTSTART:20121208T160000Z
DTEND:20121208T193000Z
X-MICROSOFT-CDO-ALLDAYEVENT:FALSE
SUMMARY:Breakfast with Santa- Sponsored by The Burton Law Firm
DESCRIPTION:Both the 10am and 8am seatings are SOLD OUT.  \n\nSanta Claus is coming to town\, and making a stop at the West Sacramento Community Center!\n\n\n\nThere will be two seatings! 8:00am - 9:30am OR 10:00am - 11:30am\n\n\n\nCome eat breakfast with Santa and Mrs. Claus! Join us for yummy brunch items\, pancake decorating\, and hot chocolate! There will be tons of Christmas-themed activities for children\; the opportunity to mail-off letters to the North Pole\, and of course\, complimentary pictures with Santa!\n\n\n\nPre-registration recommended! \n\n\n\nChildren under 2: $5.00 pre-sale \n\nChildren 12 and under: $8.00 pre-sale\n\nAdults and Children 13+: $10.00 pre-sale\n\nAll children must be accompanied by a paying adult.\n\nAll tickets will be $15.00 at-the-door.\n\n**No refunds.
X-ALT-DESC;FMTTYPE=text/html:Both the 10am and 8am seatings are SOLD OUT.  <br />\nSanta Claus is coming to town\, and making a stop at the West Sacramento Community Center!<br />\n<br />\n<strong><em>There will be two seatings! 8:00am - 9:30am OR 10:00am - 11:30am</em></strong><br />\n<br />\nCome eat breakfast with Santa and Mrs. Claus! Join us for yummy brunch items\, pancake decorating\, and hot chocolate! There will be tons of Christmas-themed activities for children\; the opportunity to mail-off letters to the North Pole\, and of course\, complimentary pictures with Santa!<br />\n<br />\nPre-registration recommended! <br />\n<br />\nChildren under 2: $5.00 pre-sale <br />\nChildren 12 and under: $8.00 pre-sale<br />\nAdults and Children 13+: $10.00 pre-sale<br />\nAll children must be accompanied by a paying adult.<br />\nAll tickets will be $15.00 at-the-door.<br />\n**No refunds.<br />\n<br />\n<br />
LOCATION:West Sacramento Community Center\, West Sacramento\, CA 95691
UID:e.2957.1130
SEQUENCE:3
DTSTAMP:20260423T134232Z
URL:https://www.westsacramentochamber.com/events/details/breakfast-with-santa-sponsored-by-the-burton-law-firm-1130
END:VEVENT

END:VCALENDAR
