BEGIN:VCALENDAR
VERSION:2.0
PRODID:-//ChamberMaster//Event Calendar 2.0//EN
METHOD:PUBLISH
X-PUBLISHED-TTL:P3D
REFRESH-INTERVAL:P3D
CALSCALE:GREGORIAN
BEGIN:VEVENT
DTSTART:20131214T163000Z
DTEND:20131214T200000Z
X-MICROSOFT-CDO-ALLDAYEVENT:FALSE
SUMMARY:Breakfast with Santa- Presented by Eureka Dental Group
DESCRIPTION:Santa Claus is coming to town\, and making a stop at the West Sacramento Community Center!\n\n\n\nThere will be two seatings! 8:30am - 10:00am OR 10:30am - 12:00pm\n\n\n\nCome eat breakfast with Santa and Mrs. Claus! Join us for yummy brunch items\, pancake decorating\, and hot chocolate! There will be tons of Christmas-themed activities for children\; the opportunity to mail-off letters to the North Pole\, and of course\, complimentary pictures with Santa!\n\n\n\nPre-registration recommended! \n\n\n\nChildren under 2: $6.00 pre-sale \n\nChildren 12 and under: $9.00 pre-sale\n\nAdults and Children 13+: $11.00 pre-sale\n\nAll children must be accompanied by a paying adult.\n\nAll tickets will be $15.00 at-the-door.\n\n**No refunds.
X-ALT-DESC;FMTTYPE=text/html:\n\nSanta Claus is coming to town\, and making a stop at the West Sacramento Community Center!<br />\n<br />\n<strong><em>There will be two seatings! 8:30am - 10:00am OR 10:30am - 12:00pm</em></strong><br />\n<br />\nCome eat breakfast with Santa and Mrs. Claus! Join us for yummy brunch items\, pancake decorating\, and hot chocolate! There will be tons of Christmas-themed activities for children\; the opportunity to mail-off letters to the North Pole\, and of course\, complimentary pictures with Santa!<br />\n<br />\nPre-registration recommended! <br />\n<br />\nChildren under 2: $6.00 pre-sale <br />\nChildren 12 and under: $9.00 pre-sale<br />\nAdults and Children 13+: $11.00 pre-sale<br />\nAll children must be accompanied by a paying adult.<br />\nAll tickets will be $15.00 at-the-door.<br />\n**No refunds.<br />\n<br />\n<br />
LOCATION:West Sacramento Community Center\, West Sacramento\, CA 95691
UID:e.2957.1177
SEQUENCE:3
DTSTAMP:20260420T065652Z
URL:https://www.westsacramentochamber.com/events/details/breakfast-with-santa-presented-by-eureka-dental-group-1177
END:VEVENT

END:VCALENDAR
