BEGIN:VCALENDAR
VERSION:2.0
PRODID:-//ChamberMaster//Event Calendar 2.0//EN
METHOD:PUBLISH
X-PUBLISHED-TTL:P3D
REFRESH-INTERVAL:P3D
CALSCALE:GREGORIAN
BEGIN:VEVENT
DTSTART:20100511T144500Z
DTEND:20100511T163000Z
X-MICROSOFT-CDO-ALLDAYEVENT:FALSE
SUMMARY:BREAKFAST WITH Sacramento Business Journal
DESCRIPTION:Start your day off right with a full\nbreakfast and conversations with the\nBusiness Journal Editor\, Ron Trujillo.\nThis valuable networking opportunity will feature an in-depth discussion\nof today's business climate\, a question and answer forum and tips\non how the Business Journal can help you generate business. Attendance\nis free and space is limited so reserve your space now!\nhttp://events.bizjournals.com/21991\nBreakfast
X-ALT-DESC;FMTTYPE=text/html:Start your day off right with a full\nbreakfast and conversations with the\nBusiness Journal Editor\, Ron Trujillo.\nThis valuable networking opportunity will feature an in-depth discussion\nof today's business climate\, a question and answer forum and tips\non how the Business Journal can help you generate business. Attendance\nis free and space is limited so reserve your space now!\nhttp://events.bizjournals.com/21991\nBreakfast
LOCATION:One Capital Mall suite 260\, Sacramento\, CA 95814 Drevel University\, One Capital Mall suite 260
UID:e.2957.995
SEQUENCE:3
DTSTAMP:20260422T164942Z
URL:https://www.westsacramentochamber.com/events/details/breakfast-with-sacramento-business-journal-995
END:VEVENT

END:VCALENDAR
