BEGIN:VCALENDAR
VERSION:2.0
PRODID:-//ChamberMaster//Event Calendar 2.0//EN
METHOD:PUBLISH
X-PUBLISHED-TTL:P3D
REFRESH-INTERVAL:P3D
CALSCALE:GREGORIAN
BEGIN:VEVENT
DTSTART:20100217T020000Z
DTEND:20100217T020000Z
X-MICROSOFT-CDO-ALLDAYEVENT:FALSE
SUMMARY:Blue Collar and Hardhat Mixer
DESCRIPTION:We are very excited to be hosting an event put on by Sacramento Get Networking Now (SacGNN). We are focused on bringing together industries that are atypical in the networking world\, hands on industries. However\, we would also like to provide a place for lots of networking\, so everyone is welcome. We would like to invite any and all Chamber members. Also looking for food and drink donations. Event will be held at AAMCO of West Sacramento on 2-16 at 6pm. Phone: (916) 373-1200
X-ALT-DESC;FMTTYPE=text/html:We are very excited to be hosting an event put on by Sacramento Get Networking Now (SacGNN). We are focused on bringing together industries that are atypical in the networking world\, hands on industries. However\, we would also like to provide a place for lots of networking\, so everyone is welcome. We would like to invite any and all Chamber members. Also looking for food and drink donations. Event will be held at AAMCO of West Sacramento on 2-16 at 6pm. Phone: (916) 373-1200
LOCATION:970 F Street #10\, West Sacramento\, CA 95605 AAMCO Transmissions
UID:e.2957.964
SEQUENCE:3
DTSTAMP:20260422T195102Z
URL:https://www.westsacramentochamber.com/events/details/blue-collar-and-hardhat-mixer-964
END:VEVENT

END:VCALENDAR
