BEGIN:VCALENDAR
VERSION:2.0
PRODID:-//ChamberMaster//Event Calendar 2.0//EN
METHOD:PUBLISH
X-PUBLISHED-TTL:P3D
REFRESH-INTERVAL:P3D
CALSCALE:GREGORIAN
BEGIN:VEVENT
DTSTART:20120119T030000Z
DTEND:20120119T030000Z
X-MICROSOFT-CDO-ALLDAYEVENT:FALSE
SUMMARY:Blackwood Legacy Concert
DESCRIPTION:Blackwood Legacy Concert - In the tradition of the world renown Blackwood Brothers\, the Blackwood Legacy will  present and mix of Southern Gospel and Contemporary Gospel Music. The Concert is Free and an offering will be taken.
X-ALT-DESC;FMTTYPE=text/html:Blackwood Legacy Concert - In the tradition of the world renown Blackwood Brothers\, the Blackwood Legacy will  present and mix of Southern Gospel and Contemporary Gospel Music. The Concert is Free and an offering will be taken.
LOCATION:2919 Promenade St. Suite 100\, West Sacramento CA\, West Sacramento\, CA 95691 Location - 2919 Promenade St. Suite 100\, West Sacramento CA. Directions - Go south on Southport Park Way from Lake Washington. Turn right on Promenade\, and take the Second Right into the Industrial Park. The concert is next to the Bounce Spot.
UID:e.2957.1113
SEQUENCE:3
DTSTAMP:20260422T120001Z
URL:https://www.westsacramentochamber.com/events/details/blackwood-legacy-concert-1113
END:VEVENT

END:VCALENDAR
