BEGIN:VCALENDAR
VERSION:2.0
PRODID:-//ChamberMaster//Event Calendar 2.0//EN
METHOD:PUBLISH
X-PUBLISHED-TTL:P3D
REFRESH-INTERVAL:P3D
CALSCALE:GREGORIAN
BEGIN:VEVENT
DTSTART:20140407T143000Z
DTEND:20140407T163000Z
X-MICROSOFT-CDO-ALLDAYEVENT:FALSE
SUMMARY:Bizwomen Mentoring Monday
DESCRIPTION:The event will offer attendees the opportunity to choose from more than 40 mentors who are the most influential women in the community for one-on-one coaching sessions for five minute conversations.
X-ALT-DESC;FMTTYPE=text/html:The event will offer attendees the opportunity to choose from more than 40 mentors who are the most influential women in the community for one-on-one coaching sessions for five minute conversations.
LOCATION:Sleep Train Arena\, Sacramento\, CA 95834 Sleep Train Arena\, 1 Sports Pkwy\, Sacramento\, CA 95834
UID:e.2957.1297
SEQUENCE:3
DTSTAMP:20260423T121308Z
URL:https://www.westsacramentochamber.com/events/details/bizwomen-mentoring-monday-1297
END:VEVENT

END:VCALENDAR
