BEGIN:VCALENDAR
VERSION:2.0
PRODID:-//ChamberMaster//Event Calendar 2.0//EN
METHOD:PUBLISH
X-PUBLISHED-TTL:P3D
REFRESH-INTERVAL:P3D
CALSCALE:GREGORIAN
BEGIN:VEVENT
DTSTART:20140827T160000Z
DTEND:20140827T190000Z
X-MICROSOFT-CDO-ALLDAYEVENT:FALSE
SUMMARY:Biz Dev Series
DESCRIPTION:The Sacramento Business Journal presents:\n\nThe Social Salesperson: Selling with a Social Advantage\n\nLearn how to use social media to support your sales and marketing activities. Understand how key platforms\, such as LinkedIn and Twitter\, can give you a true advantage over your competition.\n\nIn this content-rich and practical seminar you'll learn how to use social media platforms to:\n\n    Find and reach out to prospects\n    Nurture relationships\n    Close sales\n\nThis seminar was developed for sales and marketing professionals who have a beginner to intermediate knowledge of social media and want to learn how to integrate it into their regular activity to cultivate sales.\n\n$99 Includes:\n\n    Admission to the seminar & lunch\n    A one-year subscription to the Business Journal\, including the current Book of Lists and the new Book when published in December ($140 value)\n    A web tutorial on Twitter will be available prior to the seminar for those interested\n\nPresented by Michael Neuendorff\, President of Speak Well and Sell. Michael's workshops receive rave reviews from attendees for their actionable content and applicable tools for all sales professionals. Learn more about Michael at www.speakwellandsell.com.
X-ALT-DESC;FMTTYPE=text/html:The Sacramento Business Journal presents:\n\nThe Social Salesperson: Selling with a Social Advantage\n\nLearn how to use social media to support your sales and marketing activities. Understand how key platforms\, such as LinkedIn and Twitter\, can give you a true advantage over your competition.\n\nIn this content-rich and practical seminar you'll learn how to use social media platforms to:\n\n    Find and reach out to prospects\n    Nurture relationships\n    Close sales\n\nThis seminar was developed for sales and marketing professionals who have a beginner to intermediate knowledge of social media and want to learn how to integrate it into their regular activity to cultivate sales.\n\n$99 Includes:\n\n    Admission to the seminar & lunch\n    A one-year subscription to the Business Journal\, including the current Book of Lists and the new Book when published in December ($140 value)\n    A web tutorial on Twitter will be available prior to the seminar for those interested\n\nPresented by Michael Neuendorff\, President of Speak Well and Sell. Michael's workshops receive rave reviews from attendees for their actionable content and applicable tools for all sales professionals. Learn more about Michael at www.speakwellandsell.com.
LOCATION:160 Promenade Cir #115\, Sacramento\, CA 95834 Union Institute & University 160 Promenade Cir #115 Sacramento CA 95834
UID:e.2957.1331
SEQUENCE:3
DTSTAMP:20260421T080128Z
URL:https://www.westsacramentochamber.com/events/details/biz-dev-series-1331
END:VEVENT

END:VCALENDAR
