BEGIN:VCALENDAR
VERSION:2.0
PRODID:-//ChamberMaster//Event Calendar 2.0//EN
METHOD:PUBLISH
X-PUBLISHED-TTL:P3D
REFRESH-INTERVAL:P3D
CALSCALE:GREGORIAN
BEGIN:VEVENT
DTSTART:20120512T000000Z
DTEND:20120512T040000Z
X-MICROSOFT-CDO-ALLDAYEVENT:FALSE
SUMMARY:Bavarian May Fest 2012
DESCRIPTION:
X-ALT-DESC;FMTTYPE=text/html:
LOCATION:1271 West Capitol Ave\, West Sacramento \, Ca 95691
UID:e.2957.1143
SEQUENCE:3
DTSTAMP:20260422T191307Z
URL:https://www.westsacramentochamber.com/events/details/bavarian-may-fest-2012-1143
END:VEVENT

END:VCALENDAR
