BEGIN:VCALENDAR
VERSION:2.0
PRODID:-//ChamberMaster//Event Calendar 2.0//EN
METHOD:PUBLISH
X-PUBLISHED-TTL:P3D
REFRESH-INTERVAL:P3D
CALSCALE:GREGORIAN
BEGIN:VEVENT
DTSTART:20140314T150000Z
DTEND:20140314T170000Z
X-MICROSOFT-CDO-ALLDAYEVENT:FALSE
SUMMARY:Balancing Business and the Environment
DESCRIPTION:Our panel of experts will look at what environmental regulations mean for business and how laws and regulations in the pipeline could create new challenges.\n\nHear what policy and business advocates think you should be doing to keep up with state\, federal and local rules and reduce your environmental footprint — without hurting your bottom line.
X-ALT-DESC;FMTTYPE=text/html:Our panel of experts will look at what environmental regulations mean for business and how laws and regulations in the pipeline could create new challenges.\n\nHear what policy and business advocates think you should be doing to keep up with state\, federal and local rules and reduce your environmental footprint — without hurting your bottom line.  \n
LOCATION:Lions Gate Hotel\, Sacramento\, CA 95652 Lions Gate Hotel 3410 Westover St\, Sacramento\, CA 95652
UID:e.2957.1292
SEQUENCE:3
DTSTAMP:20260423T103725Z
URL:https://www.westsacramentochamber.com/events/details/balancing-business-and-the-environment-1292
END:VEVENT

END:VCALENDAR
