BEGIN:VCALENDAR
VERSION:2.0
PRODID:-//ChamberMaster//Event Calendar 2.0//EN
METHOD:PUBLISH
X-PUBLISHED-TTL:P3D
REFRESH-INTERVAL:P3D
CALSCALE:GREGORIAN
BEGIN:VEVENT
DTSTART:20120413T230000Z
DTEND:20120414T030000Z
X-MICROSOFT-CDO-ALLDAYEVENT:FALSE
SUMMARY:Atlas Copco Sacramento Grand Opening
DESCRIPTION:You are cordially invited to the grand opening of our newly relocated Atlas Copco-Sacramento location.\nIf you want to drill or build\, we have the finest quality Atlas Copco surface\, foundation and water well drilling tools and equipment. Please join us for product introductions\, valuable education and information—and dinner!
X-ALT-DESC;FMTTYPE=text/html:You are cordially invited to the grand opening of our newly relocated Atlas Copco-Sacramento location.\nIf you want to drill or build\, we have the finest quality Atlas Copco surface\, foundation and water well drilling tools and equipment. Please join us for product introductions\, valuable education and information—and dinner!
LOCATION:3610 West Capitol Ave.\, West Sacramento\, CA 95691 3610 West Capitol Ave. West Sacramento\, CA 95691
UID:e.2957.1142
SEQUENCE:3
DTSTAMP:20260423T121320Z
URL:https://www.westsacramentochamber.com/events/details/atlas-copco-sacramento-grand-opening-1142
END:VEVENT

END:VCALENDAR
