BEGIN:VCALENDAR
VERSION:2.0
PRODID:-//ChamberMaster//Event Calendar 2.0//EN
METHOD:PUBLISH
X-PUBLISHED-TTL:P3D
REFRESH-INTERVAL:P3D
CALSCALE:GREGORIAN
BEGIN:VEVENT
DTSTART:20131207T020000Z
DTEND:20131207T043000Z
X-MICROSOFT-CDO-ALLDAYEVENT:FALSE
SUMMARY:Annual Community Tree Lighting- presented by KOVR/KMAX 13
DESCRIPTION:Join us for this FREE event and enjoy an evening of music and holiday refreshments. The kids can get a keepsake picture on Santa's lap. It will be fun for all ages!!!
X-ALT-DESC;FMTTYPE=text/html:Join us for this FREE event and enjoy an evening of music and holiday refreshments. The kids can get a keepsake picture on Santa's lap. It will be fun for all ages!!!
LOCATION:1110 West Capitol Ave\, West Sacramento\, CA 95691
UID:e.2957.1281
SEQUENCE:3
DTSTAMP:20260420T052738Z
URL:https://www.westsacramentochamber.com/events/details/annual-community-tree-lighting-presented-by-kovr-kmax-13-1281
END:VEVENT

END:VCALENDAR
