BEGIN:VCALENDAR
VERSION:2.0
PRODID:-//ChamberMaster//Event Calendar 2.0//EN
METHOD:PUBLISH
X-PUBLISHED-TTL:P3D
REFRESH-INTERVAL:P3D
CALSCALE:GREGORIAN
BEGIN:VEVENT
DTSTART:20221209T020000Z
DTEND:20221209T050000Z
X-MICROSOFT-CDO-ALLDAYEVENT:FALSE
SUMMARY:All Charities Raffle Event at VFW Post 8762
DESCRIPTION:Join us for a special event where the winners of the raffle will be announced and checks will be presented to the participating Non-profits! We will also have a special dinner menu for the evening: $15 Tri-tip or Chicken Dinner Plate. We will sell dinners until we run out! We have a full bar as well and accept cash or card.
X-ALT-DESC;FMTTYPE=text/html:<span style="color:rgb(25\, 24\, 24)">Join us for a special event where the winners of the raffle will be announced and checks will be presented to the participating Non-profits! We will also have a special dinner menu for the evening: $15 Tri-tip or Chicken Dinner Plate. We will sell dinners until we run out! We have a full bar as well and accept cash or card.</span>
LOCATION:905 Drever Street\, West Sacramento\, CA 95691
UID:e.2957.4037
SEQUENCE:3
DTSTAMP:20260424T045801Z
URL:https://www.westsacramentochamber.com/events/details/all-charities-raffle-event-at-vfw-post-8762-4037
END:VEVENT

END:VCALENDAR
