BEGIN:VCALENDAR
VERSION:2.0
PRODID:-//ChamberMaster//Event Calendar 2.0//EN
METHOD:PUBLISH
X-PUBLISHED-TTL:P3D
REFRESH-INTERVAL:P3D
CALSCALE:GREGORIAN
BEGIN:VEVENT
DTSTART:20120628T153000Z
DTEND:20120628T070000Z
X-MICROSOFT-CDO-ALLDAYEVENT:FALSE
SUMMARY:Action Tactics: Business Development Series
DESCRIPTION:Action Tactics: Business Development Series\n\nIn this interactive workshop you will learn how to:\n\nDiscover what obstacles stand in front of you and your business\nCreate client loyalty and utilize existing clients to generate new ones\nLeverage your word of mouth marketing to immediately produce new leads\n\nPresented by Sales Partners Jason Everett an International speaker\, trainer and business coach. His superhero efforts have helped hundreds of businesses and thousands of individuals by increasing their profits from $500- $500\,000 in as little as four weeks. Jason has worked with fortune 500 companies such as Baskin Robins\, General Mills\, Warner-Bros Pictures\, Comcast\, and Marriot. \n\nYour participation includes:\n\n    One registration for the Action Tactics workshop\n    A one-year subscription to the Sacramento Business Journal\, in print and online\n    Current Book of Lists\n    Copy of the book "Little Voice Mastery" by Sales Partner founder\, Blair Singer\n    Continental breakfast/refreshments provided\n\nFor more info\, contact Maria Tillman at 916-558-7881 or mtillman@bizjournals.com\n\nWhen:\nThursday\, June 28\, 2012\, 8:30am-12:00pm\n\nWhere:\nMetro Chamber\nOne Capitol Mall\, Suite 300\nSacramento\, CA 95814\n\nCost: \n$139
X-ALT-DESC;FMTTYPE=text/html:Action Tactics: Business Development Series\n\nIn this interactive workshop you will learn how to:\n\nDiscover what obstacles stand in front of you and your business\nCreate client loyalty and utilize existing clients to generate new ones\nLeverage your word of mouth marketing to immediately produce new leads\n\nPresented by Sales Partners Jason Everett an International speaker\, trainer and business coach. His superhero efforts have helped hundreds of businesses and thousands of individuals by increasing their profits from $500- $500\,000 in as little as four weeks. Jason has worked with fortune 500 companies such as Baskin Robins\, General Mills\, Warner-Bros Pictures\, Comcast\, and Marriot. \n\nYour participation includes:\n\n    One registration for the Action Tactics workshop\n    A one-year subscription to the Sacramento Business Journal\, in print and online\n    Current Book of Lists\n    Copy of the book "Little Voice Mastery" by Sales Partner founder\, Blair Singer\n    Continental breakfast/refreshments provided\n\nFor more info\, contact Maria Tillman at 916-558-7881 or mtillman@bizjournals.com\n\nWhen:\nThursday\, June 28\, 2012\, 8:30am-12:00pm\n\nWhere:\nMetro Chamber\nOne Capitol Mall\, Suite 300\nSacramento\, CA 95814\n\nCost: \n$139\n
LOCATION:Metro Chamber\, Sacramento\, Ca 95814 Where: Metro Chamber One Capitol Mall\, Suite 300 Sacramento\, CA 95814
UID:e.2957.1153
SEQUENCE:3
DTSTAMP:20260423T085540Z
URL:https://www.westsacramentochamber.com/events/details/action-tactics-business-development-series-1153
END:VEVENT

END:VCALENDAR
