BEGIN:VCALENDAR
VERSION:2.0
PRODID:-//ChamberMaster//Event Calendar 2.0//EN
METHOD:PUBLISH
X-PUBLISHED-TTL:P3D
REFRESH-INTERVAL:P3D
CALSCALE:GREGORIAN
BEGIN:VEVENT
DTSTART:20130613T183000Z
DTEND:20130613T203000Z
X-MICROSOFT-CDO-ALLDAYEVENT:FALSE
SUMMARY:A Word and More with Ed
DESCRIPTION:Join Sacramento Business Journal columnist Ed Goldman for A Word and More with Ed- Understanding and Dealing with the Brave New World of Out of Control Media. Ed will discuss how to get a better handle on the news media including how it's evolving\, how to navigate the various platforms and outlets\, and what to do when things go wrong.
X-ALT-DESC;FMTTYPE=text/html:Join Sacramento Business Journal columnist Ed Goldman for A Word and More with Ed- Understanding and Dealing with the Brave New World of Out of Control Media. Ed will discuss how to get a better handle on the news media including how it's evolving\, how to navigate the various platforms and outlets\, and what to do when things go wrong. 
LOCATION:Flywheel Gallery\, Sacramento\, CA 95814 Flywheel Gallery\, Downtown Plaza Mall (547 L St\, Sacramento)
UID:e.2957.1200
SEQUENCE:3
DTSTAMP:20260423T103720Z
URL:https://www.westsacramentochamber.com/events/details/a-word-and-more-with-ed-1200
END:VEVENT

END:VCALENDAR
