BEGIN:VCALENDAR
VERSION:2.0
PRODID:-//ChamberMaster//Event Calendar 2.0//EN
METHOD:PUBLISH
X-PUBLISHED-TTL:P3D
REFRESH-INTERVAL:P3D
CALSCALE:GREGORIAN
BEGIN:VEVENT
DTSTART:20091003T173000Z
DTEND:20091004T000000Z
X-MICROSOFT-CDO-ALLDAYEVENT:FALSE
SUMMARY:8th Annual West Sacramento Neighbors PARADE and FAIR
DESCRIPTION:Saturday October 3\, West Sacramento Neighbors Fair invites you to celebrate ''Our heritage\, our future'' with a one day cultural fair featuring diverse foods\, crafts\, KidsZone and live entertainment with R&B artist\, Lenny Williams! \nThe Parade starts at 10:30 a.m.\, winding through the streets of Broderick and West Sacramento continuing with Fair activities from 12-5 p.m. at River Walk Park at 3rd & F Streets. Watch the Great Sacramento Duck Race at 3 p.m. FREE Admission & Parking. \nwww.wsneighborsfair.com
X-ALT-DESC;FMTTYPE=text/html:Saturday October 3\, West Sacramento Neighbors Fair invites you to celebrate ''Our heritage\, our future'' with a one day cultural fair featuring diverse foods\, crafts\, KidsZone and live entertainment with R&B artist\, Lenny Williams! \nThe Parade starts at 10:30 a.m.\, winding through the streets of Broderick and West Sacramento continuing with Fair activities from 12-5 p.m. at River Walk Park at 3rd & F Streets. Watch the Great Sacramento Duck Race at 3 p.m. FREE Admission & Parking. \nwww.wsneighborsfair.com\n
LOCATION:651 2nd Stree\, West Sacramento\, CA 95605 River Walk Park in West Sacramento located at 3rd and F Streets.
UID:e.2957.893
SEQUENCE:3
DTSTAMP:20260423T230042Z
URL:https://www.westsacramentochamber.com/events/details/8th-annual-west-sacramento-neighbors-parade-and-fair-893
END:VEVENT

END:VCALENDAR
