BEGIN:VCALENDAR
VERSION:2.0
PRODID:-//ChamberMaster//Event Calendar 2.0//EN
METHOD:PUBLISH
X-PUBLISHED-TTL:P3D
REFRESH-INTERVAL:P3D
CALSCALE:GREGORIAN
BEGIN:VEVENT
DTSTART:20090802T000000Z
DTEND:20090802T033000Z
X-MICROSOFT-CDO-ALLDAYEVENT:FALSE
SUMMARY:5th Annual Concert in the Park
DESCRIPTION:5th Annual Concert in the Park\nAugust 1\, 2009\n5pm-8:30pm\, Free\nHeadline Music by Nagual Latin Jazz\nOpening by Awawa Hawaiian Band\nFood vendors\, beer garden\, jump house\nSponsored by N magazine\n359-7411\, Nmag.net
X-ALT-DESC;FMTTYPE=text/html:5th Annual Concert in the Park\nAugust 1\, 2009\n5pm-8:30pm\, Free\nHeadline Music by Nagual Latin Jazz\nOpening by Awawa Hawaiian Band\nFood vendors\, beer garden\, jump house\nSponsored by N magazine\n359-7411\, Nmag.net\n\n\n
LOCATION:2230 River Plaza Dr\, \, Sacramento\, CA 95833 Natomas Oaks Park 2230 River Plaza Drive (near the Garden Highway) Natomas
UID:e.2957.874
SEQUENCE:3
DTSTAMP:20260425T160623Z
URL:https://www.westsacramentochamber.com/events/details/5th-annual-concert-in-the-park-874
END:VEVENT

END:VCALENDAR
