BEGIN:VCALENDAR
VERSION:2.0
PRODID:-//ChamberMaster//Event Calendar 2.0//EN
METHOD:PUBLISH
X-PUBLISHED-TTL:P3D
REFRESH-INTERVAL:P3D
CALSCALE:GREGORIAN
BEGIN:VEVENT
DTSTART:20091015T140000Z
DTEND:20091015T140000Z
X-MICROSOFT-CDO-ALLDAYEVENT:FALSE
SUMMARY:444 Golf Tournament
DESCRIPTION:The West Sacramento Foundation\, a local non-profit\, is setting up a 4-person scramble golf tournament. The proceeds are distributed to non-profits serving the people of West Sacramento. Foursome: $600\, Individual Player: $150\, Sponsorship Opportunities are available: $2500 Hole in One Sponsorship\, $1500 Eagle Sponsorship\, $1000 Par Sponsorship\, $750 Beverage Cart or Gift Bag Sponsorship\, $500 Meal/Dr. Range/Putting Green Sponsorship Placement in Gift Bag available to all sponsors. Call for more information. Check-in at 7:00am\, Shotgun at 8:00am.
X-ALT-DESC;FMTTYPE=text/html:The West Sacramento Foundation\, a local non-profit\, is setting up a 4-person scramble golf tournament. The proceeds are distributed to non-profits serving the people of West Sacramento. Foursome: $600\, Individual Player: $150\, Sponsorship Opportunities are available: $2500 Hole in One Sponsorship\, $1500 Eagle Sponsorship\, $1000 Par Sponsorship\, $750 Beverage Cart or Gift Bag Sponsorship\, $500 Meal/Dr. Range/Putting Green Sponsorship Placement in Gift Bag available to all sponsors. Call for more information. Check-in at 7:00am\, Shotgun at 8:00am.
LOCATION:2323 Rockwell Drive\, Davis\, CA 95616 Wildhorse Golf Course\, 2323 Rockwell Drive\, Davis 95616
UID:e.2957.898
SEQUENCE:3
DTSTAMP:20260423T225938Z
URL:https://www.westsacramentochamber.com/events/details/444-golf-tournament-10-15-2009-898
END:VEVENT

END:VCALENDAR
