BEGIN:VCALENDAR
VERSION:2.0
PRODID:-//ChamberMaster//Event Calendar 2.0//EN
METHOD:PUBLISH
X-PUBLISHED-TTL:P3D
REFRESH-INTERVAL:P3D
CALSCALE:GREGORIAN
BEGIN:VEVENT
DTSTART:20100829T210000Z
DTEND:20100830T010000Z
X-MICROSOFT-CDO-ALLDAYEVENT:FALSE
SUMMARY:3rd Annual Big Lebowski Bowling Party
DESCRIPTION:2 hours of bowling\, movie screening\, food & drink specials\, shoe rental\, costume & trivia contests and live music!
X-ALT-DESC;FMTTYPE=text/html:<html>\n<head>\n</head>\n<body>\n    <font face="Arial"><font size="4">2 hours of bowling\, movie screening\, food &amp\; drink specials\, shoe rental\, costume &amp\; trivia contests and live music!</font> </font>\n</body>\n</html>\n
LOCATION:900 West Capitol Ave.\, West Sacramento\, CA 95691
UID:e.2957.1005
SEQUENCE:3
DTSTAMP:20260422T164738Z
URL:https://www.westsacramentochamber.com/events/details/3rd-annual-big-lebowski-bowling-party-1005
END:VEVENT

END:VCALENDAR
