BEGIN:VCALENDAR
VERSION:2.0
PRODID:-//ChamberMaster//Event Calendar 2.0//EN
METHOD:PUBLISH
X-PUBLISHED-TTL:P3D
REFRESH-INTERVAL:P3D
CALSCALE:GREGORIAN
BEGIN:VEVENT
DTSTART:20230124T180000Z
DTEND:20230124T193000Z
X-MICROSOFT-CDO-ALLDAYEVENT:FALSE
SUMMARY:2023 ONLINE Labor Law Update
DESCRIPTION:Learn more about the new employment laws that impact California employers. \n\n\n\nJoin us and our friends with California Employers Association to learn the latest updates and new bills that touch on almost every facet of employment for 2023. This webinar will cover new 2023 employment laws for employers and provide practical guidance\, as well as discuss how to address the issues of stress and burnout in the workplace. \n\n\n\nSome topics we will cover include: \n\n	New pay transparency requirements\n	Mandatory bereavement leave\n	The difference between stress and burnout\n	Changes to the California Family Rights Act and paid sick leave law\n	New cannabis use rights\n	Strategies to address employee relations issues\n	Minimum wage and exempt salary increases \n	COVID-related extensions and updates
X-ALT-DESC;FMTTYPE=text/html:<br />\nLearn more about the new employment laws that impact California employers.&nbsp\;<br />\n<br />\nJoin us and our friends with <a href="https://www.employers.org/">California Employers Association</a> to learn the latest updates and new bills that touch on almost every facet of employment for 2023. This webinar will cover new 2023 employment laws for employers and provide practical guidance\, as well as discuss how to address the issues of stress and burnout in the workplace.&nbsp\;<br />\n<br />\nSome topics we will cover include:&nbsp\;\n<ul>\n	<li>New pay transparency requirements</li>\n	<li>Mandatory bereavement leave</li>\n	<li>The difference between stress and burnout</li>\n	<li>Changes to the California Family Rights Act and paid sick leave law</li>\n	<li>New cannabis use rights</li>\n	<li>Strategies to address employee relations issues</li>\n	<li>Minimum wage and exempt salary increases&nbsp\;</li>\n	<li>COVID-related extensions and updates</li>\n</ul>\n
LOCATION:Zoom Register to receive Zoom information
UID:e.2957.4044
SEQUENCE:3
DTSTAMP:20260425T115732Z
URL:https://www.westsacramentochamber.com/events/details/2023-online-labor-law-update-4044
END:VEVENT

END:VCALENDAR
