BEGIN:VCALENDAR
VERSION:2.0
PRODID:-//ChamberMaster//Event Calendar 2.0//EN
METHOD:PUBLISH
X-PUBLISHED-TTL:P3D
REFRESH-INTERVAL:P3D
CALSCALE:GREGORIAN
BEGIN:VEVENT
DTSTART:20140115T013000Z
DTEND:20140115T033000Z
X-MICROSOFT-CDO-ALLDAYEVENT:FALSE
SUMMARY:2014 Book of Lists Party
DESCRIPTION:Start the new year off right at the ultimate high-level networking event of the year! Enjoy great food\, drinks and opportunities to make important business connections at the annual Book of Lists Party!
X-ALT-DESC;FMTTYPE=text/html:Start the new year off right at the ultimate high-level networking event of the year! Enjoy great food\, drinks and opportunities to make important business connections at the annual Book of Lists Party!
LOCATION:Ella Dining Room & Bar\, Sacramento\, CA 95814 Ella Dining Room & Bar 1131 K St\, Sacramento\, CA 95814
UID:e.2957.1283
SEQUENCE:3
DTSTAMP:20260423T103836Z
URL:https://www.westsacramentochamber.com/events/details/2014-book-of-lists-party-1283
END:VEVENT

END:VCALENDAR
