BEGIN:VCALENDAR
VERSION:2.0
PRODID:-//ChamberMaster//Event Calendar 2.0//EN
METHOD:PUBLISH
X-PUBLISHED-TTL:P3D
REFRESH-INTERVAL:P3D
CALSCALE:GREGORIAN
BEGIN:VEVENT
DTSTART:20130917T150000Z
DTEND:20130917T190000Z
X-MICROSOFT-CDO-ALLDAYEVENT:FALSE
SUMMARY:2013 Annual Sacramento Sustainable Business of the Year Awards
DESCRIPTION:Join the Sacramento County Business Environmental Resource Center (BERC) for the Sustainable Business of the Year awards. These awards recognize top environmentally proactive Sacramento area businesses whose work practices demonstrate an outstanding commitment to enhancing sustainability.\nTickets are only $15 and include:\n•Green expo including a continental breakfast\, networking and vendors\n•Awards ceremony\n•Your choice of one of two free workshops (How to Conduct a Well-Run Business presented by SCORE or Plan to be Social: Plan to be Successful by Uptown Studios)
X-ALT-DESC;FMTTYPE=text/html:Join the Sacramento County Business Environmental Resource Center (BERC) for the Sustainable Business of the Year awards. These awards recognize top environmentally proactive Sacramento area businesses whose work practices demonstrate an outstanding commitment to enhancing sustainability.\nTickets are only $15 and include:\n•Green expo including a continental breakfast\, networking and vendors\n•Awards ceremony\n•Your choice of one of two free workshops (How to Conduct a Well-Run Business presented by SCORE or Plan to be Social: Plan to be Successful by Uptown Studios)\n
LOCATION:Sheraton Grand Sacramento\, Sacramento\, CA 95814 Sheraton Grand Sacramento\, 1230 J St Sacramento\, CA
UID:e.2957.1213
SEQUENCE:3
DTSTAMP:20260423T104042Z
URL:https://www.westsacramentochamber.com/events/details/2013-annual-sacramento-sustainable-business-of-the-year-awards-1213
END:VEVENT

END:VCALENDAR
