BEGIN:VCALENDAR
VERSION:2.0
PRODID:-//ChamberMaster//Event Calendar 2.0//EN
METHOD:PUBLISH
X-PUBLISHED-TTL:P3D
REFRESH-INTERVAL:P3D
CALSCALE:GREGORIAN
BEGIN:VEVENT
DTSTART:20111028T013000Z
DTEND:20111028T030000Z
X-MICROSOFT-CDO-ALLDAYEVENT:FALSE
SUMMARY:2012 Relay for Life Tailgate Kick Off Party
DESCRIPTION:Thursday\, October 27 · 6:30pm - 8:00pm\n	\nWest Sacramento Recreation Center\n2801 Jefferson Boulevard\nWest Sacramento\, CA\n	\nYou are ALL invited to attend the 2012 Relay Kick Off!! Captains\, walkers\, volunteers\, and supporters are invited to see what we're planning for the 2012 Relay for Life! Come meet your committee\, find out how we did in 2011\, and get pumped up for RELAY NATION!\n\nRefreshments (tailgate food)\, River City Cheer\, Raffle\, prizes\, $25 Team Registration ONE NIGHT ONLY SPECIAL!
X-ALT-DESC;FMTTYPE=text/html:	\nThursday\, October 27 · 6:30pm - 8:00pm\n	\nWest Sacramento Recreation Center\n2801 Jefferson Boulevard\nWest Sacramento\, CA\n	\nYou are ALL invited to attend the 2012 Relay Kick Off!! Captains\, walkers\, volunteers\, and supporters are invited to see what we're planning for the 2012 Relay for Life! Come meet your committee\, find out how we did in 2011\, and get pumped up for RELAY NATION!\n\nRefreshments (tailgate food)\, River City Cheer\, Raffle\, prizes\, $25 Team Registration ONE NIGHT ONLY SPECIAL! 
LOCATION:2801 Jefferson Boulevard\, West Sacramento\, Ca 95691 West Sacramento Recreation Center 2801 Jefferson Boulevard West Sacramento\, CA
UID:e.2957.1101
SEQUENCE:3
DTSTAMP:20260424T124646Z
URL:https://www.westsacramentochamber.com/events/details/2012-relay-for-life-tailgate-kick-off-party-1101
END:VEVENT

END:VCALENDAR
