BEGIN:VCALENDAR
VERSION:2.0
PRODID:-//ChamberMaster//Event Calendar 2.0//EN
METHOD:PUBLISH
X-PUBLISHED-TTL:P3D
REFRESH-INTERVAL:P3D
CALSCALE:GREGORIAN
BEGIN:VEVENT
DTSTART:20130927T143000Z
DTEND:20130927T163000Z
X-MICROSOFT-CDO-ALLDAYEVENT:FALSE
SUMMARY:2012-2013 Best Real Estate Projects
DESCRIPTION:Join the Sacramento Business Journal as we honor the highest impact real estate projects of the past 12 months and the companies that made them happen. Don't miss this annual breakfast and the opportunity to network with key leaders in the industry.
X-ALT-DESC;FMTTYPE=text/html:Join the Sacramento Business Journal as we honor the highest impact real estate projects of the past 12 months and the companies that made them happen. Don't miss this annual breakfast and the opportunity to network with key leaders in the industry.
LOCATION:DoubleTree Sacramento\, Sacramento\, CA 95815 DoubleTree Sacramento\, 2001 Point West\, Sacramento\, CA 95815
UID:e.2957.1215
SEQUENCE:3
DTSTAMP:20260423T103743Z
URL:https://www.westsacramentochamber.com/events/details/2012-2013-best-real-estate-projects-1215
END:VEVENT

END:VCALENDAR
