BEGIN:VCALENDAR
VERSION:2.0
PRODID:-//ChamberMaster//Event Calendar 2.0//EN
METHOD:PUBLISH
X-PUBLISHED-TTL:P3D
REFRESH-INTERVAL:P3D
CALSCALE:GREGORIAN
BEGIN:VEVENT
DTSTART:20110618T140000Z
DTEND:20110618T220000Z
X-MICROSOFT-CDO-ALLDAYEVENT:FALSE
SUMMARY:2011 West Sac K-9 Association LAWDOGS CHALLENGE
DESCRIPTION:The LAWDOGS CHALLENGE will be a captivating and exciting community event-  Highlights include\, K-9 searches\, agility and obedience tests\, AND everyone's favorite THE PROTECTION PHASE! There will also be special appearences by the SWAT TEAM\, the BOMB SQUAD\, and the WS Fire Department.  PLEASE COME AND ENJOY THIS WONDERFUL EVENT! DONATIONS ARE WELCOMED AND 100% OF DONATIONS BENEFIT THE WEST SACRAMENTO K-9'S "ZAR & CHANCE."  Thank you.
X-ALT-DESC;FMTTYPE=text/html:The LAWDOGS CHALLENGE will be a captivating and exciting community event-  Highlights include\, K-9 searches\, agility and obedience tests\, AND everyone's favorite THE PROTECTION PHASE! There will also be special appearences by the SWAT TEAM\, the BOMB SQUAD\, and the WS Fire Department.  PLEASE COME AND ENJOY THIS WONDERFUL EVENT! DONATIONS ARE WELCOMED AND 100% OF DONATIONS BENEFIT THE WEST SACRAMENTO K-9'S "ZAR & CHANCE."  Thank you.  
LOCATION:2801 JEFFERSON BOULEVARD\, WEST SACRAMENTO\, CA 95691 RIVER CITY HIGH SCHOOL
UID:e.2957.1077
SEQUENCE:3
DTSTAMP:20260422T182526Z
URL:https://www.westsacramentochamber.com/events/details/2011-west-sac-k-9-association-lawdogs-challenge-1077
END:VEVENT

END:VCALENDAR
